BEGIN:VCALENDAR
VERSION:2.0
PRODID:-//Northwestern Bus Nuts - ECPv6.15.10//NONSGML v1.0//EN
CALSCALE:GREGORIAN
METHOD:PUBLISH
X-ORIGINAL-URL:https://nwbusnuts.com
X-WR-CALDESC:Events for Northwestern Bus Nuts
REFRESH-INTERVAL;VALUE=DURATION:PT1H
X-Robots-Tag:noindex
X-PUBLISHED-TTL:PT1H
BEGIN:VTIMEZONE
TZID:America/Denver
BEGIN:DAYLIGHT
TZOFFSETFROM:-0700
TZOFFSETTO:-0600
TZNAME:MDT
DTSTART:20250309T090000
END:DAYLIGHT
BEGIN:STANDARD
TZOFFSETFROM:-0600
TZOFFSETTO:-0700
TZNAME:MST
DTSTART:20251102T080000
END:STANDARD
BEGIN:DAYLIGHT
TZOFFSETFROM:-0700
TZOFFSETTO:-0600
TZNAME:MDT
DTSTART:20260308T090000
END:DAYLIGHT
BEGIN:STANDARD
TZOFFSETFROM:-0600
TZOFFSETTO:-0700
TZNAME:MST
DTSTART:20261101T080000
END:STANDARD
BEGIN:DAYLIGHT
TZOFFSETFROM:-0700
TZOFFSETTO:-0600
TZNAME:MDT
DTSTART:20270314T090000
END:DAYLIGHT
BEGIN:STANDARD
TZOFFSETFROM:-0600
TZOFFSETTO:-0700
TZNAME:MST
DTSTART:20271107T080000
END:STANDARD
END:VTIMEZONE
BEGIN:VEVENT
DTSTART;VALUE=DATE:20260707
DTEND;VALUE=DATE:20260713
DTSTAMP:20260423T174705
CREATED:20260414T002726Z
LAST-MODIFIED:20260414T003524Z
UID:1008-1783382400-1783900799@nwbusnuts.com
SUMMARY:July Bus Nuts Rally\, Mt Vernon Washington
DESCRIPTION:Town & Country Motorcoach and RV Resort \n \n \n \n(Click on DRIVING DIRECTIONS for PDF version)
URL:https://nwbusnuts.com/event/july-bus-nuts-rally-mt-vernon-washington/
LOCATION:Town & Country Motorcoach and RV Resort\, 342 W College Way\, Mt. Vernon\, WA\, 98273\, United States
END:VEVENT
END:VCALENDAR