BEGIN:VCALENDAR
VERSION:2.0
PRODID:-//Northwestern Bus Nuts - ECPv6.15.10//NONSGML v1.0//EN
CALSCALE:GREGORIAN
METHOD:PUBLISH
X-WR-CALNAME:Northwestern Bus Nuts
X-ORIGINAL-URL:https://nwbusnuts.com
X-WR-CALDESC:Events for Northwestern Bus Nuts
REFRESH-INTERVAL;VALUE=DURATION:PT1H
X-Robots-Tag:noindex
X-PUBLISHED-TTL:PT1H
BEGIN:VTIMEZONE
TZID:America/Denver
BEGIN:DAYLIGHT
TZOFFSETFROM:-0700
TZOFFSETTO:-0600
TZNAME:MDT
DTSTART:20220313T090000
END:DAYLIGHT
BEGIN:STANDARD
TZOFFSETFROM:-0600
TZOFFSETTO:-0700
TZNAME:MST
DTSTART:20221106T080000
END:STANDARD
BEGIN:DAYLIGHT
TZOFFSETFROM:-0700
TZOFFSETTO:-0600
TZNAME:MDT
DTSTART:20230312T090000
END:DAYLIGHT
BEGIN:STANDARD
TZOFFSETFROM:-0600
TZOFFSETTO:-0700
TZNAME:MST
DTSTART:20231105T080000
END:STANDARD
BEGIN:DAYLIGHT
TZOFFSETFROM:-0700
TZOFFSETTO:-0600
TZNAME:MDT
DTSTART:20240310T090000
END:DAYLIGHT
BEGIN:STANDARD
TZOFFSETFROM:-0600
TZOFFSETTO:-0700
TZNAME:MST
DTSTART:20241103T080000
END:STANDARD
BEGIN:DAYLIGHT
TZOFFSETFROM:-0700
TZOFFSETTO:-0600
TZNAME:MDT
DTSTART:20250309T090000
END:DAYLIGHT
BEGIN:STANDARD
TZOFFSETFROM:-0600
TZOFFSETTO:-0700
TZNAME:MST
DTSTART:20251102T080000
END:STANDARD
BEGIN:DAYLIGHT
TZOFFSETFROM:-0700
TZOFFSETTO:-0600
TZNAME:MDT
DTSTART:20260308T090000
END:DAYLIGHT
BEGIN:STANDARD
TZOFFSETFROM:-0600
TZOFFSETTO:-0700
TZNAME:MST
DTSTART:20261101T080000
END:STANDARD
BEGIN:DAYLIGHT
TZOFFSETFROM:-0700
TZOFFSETTO:-0600
TZNAME:MDT
DTSTART:20270314T090000
END:DAYLIGHT
BEGIN:STANDARD
TZOFFSETFROM:-0600
TZOFFSETTO:-0700
TZNAME:MST
DTSTART:20271107T080000
END:STANDARD
END:VTIMEZONE
BEGIN:VTIMEZONE
TZID:UTC
BEGIN:STANDARD
TZOFFSETFROM:+0000
TZOFFSETTO:+0000
TZNAME:UTC
DTSTART:20160101T000000
END:STANDARD
END:VTIMEZONE
BEGIN:VEVENT
DTSTART;VALUE=DATE:20260107
DTEND;VALUE=DATE:20260112
DTSTAMP:20260423T162431
CREATED:20251122T222509Z
LAST-MODIFIED:20251122T222619Z
UID:966-1767744000-1768175999@nwbusnuts.com
SUMMARY:2026 Western Area Rally
DESCRIPTION:Please contact FMCA/FRVA for registration.
URL:https://nwbusnuts.com/event/2026-western-area-rally/
END:VEVENT
BEGIN:VEVENT
DTSTART;VALUE=DATE:20251015
DTEND;VALUE=DATE:20251020
DTSTAMP:20260423T162431
CREATED:20180310T015024Z
LAST-MODIFIED:20250506T214504Z
UID:209-1760486400-1760918399@nwbusnuts.com
SUMMARY:SILVER SPUR RV\, SILVERTON\, OR
DESCRIPTION:  \nCall (503) 873-2020 to book your reservation. Let Doug Brown know your coming to the rally.\n \n‘
URL:https://nwbusnuts.com/event/silver-spur-rv-silverton/
LOCATION:Silver Spur RV Park\, 12622 Silverton Rd NE\, Silverton\, OR\, 97381\, United States
ORGANIZER;CN="Douglas Brown":MAILTO:dbtrooper@juno.com
END:VEVENT
BEGIN:VEVENT
DTSTART;VALUE=DATE:20250923
DTEND;VALUE=DATE:20250929
DTSTAMP:20260423T162431
CREATED:20230405T024403Z
LAST-MODIFIED:20250407T174327Z
UID:577-1758585600-1759103999@nwbusnuts.com
SUMMARY:CASEY'S RIVERSIDE RV PARK\, WESTFIR\, OREGON\, SEPTEMBER 2025
DESCRIPTION:Casey’s Riverside RV Park  Call now and book a site. Tell them your with the BusNuts and try to keep us together.
URL:https://nwbusnuts.com/event/westfir-oregon/
LOCATION:Casey’s Riverside RV Park\, 45443 Westfir Road\, Westfir\, OR\, 97492\, United States
END:VEVENT
BEGIN:VEVENT
DTSTART;VALUE=DATE:20250826
DTEND;VALUE=DATE:20250901
DTSTAMP:20260423T162431
CREATED:20240423T193624Z
LAST-MODIFIED:20250407T174803Z
UID:793-1756166400-1756684799@nwbusnuts.com
SUMMARY:HOOD RIVER COUNTY FAIRGROUNDS\, HOOD RIVER\, OR
DESCRIPTION:  \nRally at Hood River Fairgrounds August 26 – 31. Let Al Roeske know if you are coming.
URL:https://nwbusnuts.com/event/hood-river-county-fairgrounds-hood-river-or/
END:VEVENT
BEGIN:VEVENT
DTSTART;VALUE=DATE:20250618
DTEND;VALUE=DATE:20250622
DTSTAMP:20260423T162431
CREATED:20250407T193622Z
LAST-MODIFIED:20260414T000501Z
UID:882-1750204800-1750550399@nwbusnuts.com
SUMMARY:NORTHWEST AREA RALLY 2026
DESCRIPTION:
URL:https://nwbusnuts.com/event/northwest-area-rally-2025/
LOCATION:Linn County Fair and Expo Center\, 3700 Knox Butte Rd E\, Albany\, OR\, 97322\, United States
ORGANIZER;CN="Al Roeske":MAILTO:candle100@comcast.net
END:VEVENT
BEGIN:VEVENT
DTSTART;VALUE=DATE:20250508
DTEND;VALUE=DATE:20250512
DTSTAMP:20260423T162431
CREATED:20250407T194418Z
LAST-MODIFIED:20250506T215029Z
UID:887-1746662400-1747007999@nwbusnuts.com
SUMMARY:ST. HELENS ELK'S CLUB\, MAY 2025
DESCRIPTION:Please see April Newsletter for information. \nSt Helens Elk’s Lodge and RV Parking \n \n 
URL:https://nwbusnuts.com/event/st-helens-elks-club-may-2025/
ORGANIZER;CN="Douglas Brown":MAILTO:dbtrooper@juno.com
END:VEVENT
BEGIN:VEVENT
DTSTART;VALUE=DATE:20240814
DTEND;VALUE=DATE:20240819
DTSTAMP:20260423T162431
CREATED:20240423T041722Z
LAST-MODIFIED:20240423T201120Z
UID:780-1723593600-1724025599@nwbusnuts.com
SUMMARY:FMCA 109th INTERNATIONAL CONVENTION\, REDMOND\, OR
DESCRIPTION:109thConventionRegistration
URL:https://nwbusnuts.com/event/fmca-109th-international-convention-redmond-or/
END:VEVENT
BEGIN:VEVENT
DTSTART;VALUE=DATE:20240516
DTEND;VALUE=DATE:20240520
DTSTAMP:20260423T162431
CREATED:20240405T033345Z
LAST-MODIFIED:20240405T033345Z
UID:761-1715817600-1716163199@nwbusnuts.com
SUMMARY:Spirit Mountain Casino RV Park
DESCRIPTION:May 16\, 17\, 18\, depart 19th. \n12 sites reserved See Newsletter for more information.
URL:https://nwbusnuts.com/event/spirit-mountain-casino-rv-park/
LOCATION:Spirit Mountain Casino RV Park\, 27100 SW Salmon River Hwy\, Grand Ronde\, OR\, 97347\, United States
END:VEVENT
BEGIN:VEVENT
DTSTART;VALUE=DATE:20231012
DTEND;VALUE=DATE:20231016
DTSTAMP:20260423T162431
CREATED:20230405T030505Z
LAST-MODIFIED:20230405T030841Z
UID:586-1697068800-1697414399@nwbusnuts.com
SUMMARY:WINE COUNTRY RV PARK\, PROSSER\, WA OCTOBER 2023
DESCRIPTION:Wine Country RV Park
URL:https://nwbusnuts.com/event/wine-country-rv-park-prosser-wa/
END:VEVENT
BEGIN:VEVENT
DTSTART;VALUE=DATE:20230914
DTEND;VALUE=DATE:20230918
DTSTAMP:20260423T162431
CREATED:20230813T225624Z
LAST-MODIFIED:20230813T225624Z
UID:682-1694649600-1694995199@nwbusnuts.com
SUMMARY:NEWPORT 2023
DESCRIPTION:
URL:https://nwbusnuts.com/event/newport-2023/
LOCATION:Port of Newport RV & Marina\, 2120 SE Marine Science Drive\, Newport\, OR\, 97365\, United States
END:VEVENT
BEGIN:VEVENT
DTSTART;VALUE=DATE:20230820
DTEND;VALUE=DATE:20230827
DTSTAMP:20260423T162431
CREATED:20230619T182753Z
LAST-MODIFIED:20230619T182753Z
UID:665-1692489600-1693094399@nwbusnuts.com
SUMMARY:FMCA's 107th International Convention\, CAMPLEX\, Gillette\, Wyoming
DESCRIPTION:
URL:https://nwbusnuts.com/event/fmcas-107th-international-convention-camplex-gillette-wyoming/
END:VEVENT
BEGIN:VEVENT
DTSTART;VALUE=DATE:20230720
DTEND;VALUE=DATE:20230724
DTSTAMP:20260423T162431
CREATED:20180307T215936Z
LAST-MODIFIED:20230508T035330Z
UID:192-1689811200-1690156799@nwbusnuts.com
SUMMARY:WILDHORSE RESORT AND CASINO\, PENDLETON\, OR\, JULY 2023
DESCRIPTION:Wild Horse Resort and Casino \n  \n \n \n 
URL:https://nwbusnuts.com/event/wildhorse-resort-casino/
LOCATION:Wild Horse Casino\, 46510 Wildhorse Blvd\, Pendleton\, OR\, 97801\, United States
ORGANIZER;CN="Douglas Brown":MAILTO:dbtrooper@juno.com
END:VEVENT
BEGIN:VEVENT
DTSTART;VALUE=DATE:20230511
DTEND;VALUE=DATE:20230515
DTSTAMP:20260423T162431
CREATED:20230405T022756Z
LAST-MODIFIED:20230508T035418Z
UID:572-1683763200-1684108799@nwbusnuts.com
SUMMARY:REDMOND EXPO CENTER RV PARK RALLY\, REDMOND\, OR MAY 2023
DESCRIPTION:
URL:https://nwbusnuts.com/event/redmond-expo-center-rv-park/
ORGANIZER;CN="Al Roeske":MAILTO:candle100@comcast.net
END:VEVENT
BEGIN:VEVENT
DTSTART;TZID=America/Denver:20230111T080000
DTEND;TZID=America/Denver:20230115T170000
DTSTAMP:20260423T162431
CREATED:20221115T040329Z
LAST-MODIFIED:20221115T042259Z
UID:549-1673424000-1673802000@nwbusnuts.com
SUMMARY:2023 Western Area Rally
DESCRIPTION:Click on Form to open PDF and print or go online to complete form. Contact Dick Wright to let him know that you will be attending.\nRALLIES SCHEDULED IN 2023:\nIndio\, CA – 2nd week in January – Dick will host\nAlbany\, Oregon – June – Regional at Fairgrounds\nAl asked members to give the him ideas where to possibly schedule a rally:\nSunbanks Lake Resort\, Electric City\, WA; Grand Coulee RV Park\, Grand Coulee\,\nWA -Pete Blackwell will investigate; Valley of the Rogue\, Grants Pass\, OR\, Ted\nwill investigate ; Mt St Helens – Patti Harper will investigate; Hood River\, OR\nPlease call or text Al for any and all ideas have rally.
URL:https://nwbusnuts.com/event/2023-western-area-rally/
LOCATION:January FMCA Western Area Rally\, 46517 Arabia Street\, Indio\, CA\, 92201\, United States
END:VEVENT
BEGIN:VEVENT
DTSTART;TZID=UTC:20190822T080000
DTEND;TZID=UTC:20190825T120000
DTSTAMP:20260423T162431
CREATED:20190530T111633Z
LAST-MODIFIED:20190612T101607Z
UID:348-1566460800-1566734400@nwbusnuts.com
SUMMARY:POLK COUNTY FAIRGROUNDS\, RICKREALL OR
DESCRIPTION:SAVE THE DATE: August 22 – 25\, 2019 \nROCKN’ IN RICKREALL \nPolk County Fairgrounds \n    Rally Signup Sheet
URL:https://nwbusnuts.com/event/polk-county-fairgrounds-rickreall/
LOCATION:Polk County Fairgrounds\, 520 S Pacific Hwy\, Rickreall\, OR\, 97371\, United States
END:VEVENT
BEGIN:VEVENT
DTSTART;TZID=UTC:20190720T160000
DTEND;TZID=UTC:20190720T200000
DTSTAMP:20260423T162431
CREATED:20190703T080105Z
LAST-MODIFIED:20190703T080306Z
UID:372-1563638400-1563652800@nwbusnuts.com
SUMMARY:WILLAMETTE QUEEN STERNWHEELER DINNER CRUISE
DESCRIPTION:Link to Willamette Queen Sternwheeler Dinner Cruise in PDF
URL:https://nwbusnuts.com/event/willamette-queen-sternwheeler-dinner-cruise/
LOCATION:Willamette Queen Sternwheeler\, 200 Water Street NE\, Salem\, OR\, United States
END:VEVENT
BEGIN:VEVENT
DTSTART;VALUE=DATE:20190516
DTEND;VALUE=DATE:20190520
DTSTAMP:20260423T162431
CREATED:20190307T004256Z
LAST-MODIFIED:20190307T010256Z
UID:323-1557964800-1558310399@nwbusnuts.com
SUMMARY:MIDWAY RV PARK
DESCRIPTION:  \nPlease sign-up early. Limited number of rv spaces available. Pay for food only ($35) with sign-up form. You will pay Midway RV Park upon arrival\, see sign-up form. \n  \n \n 
URL:https://nwbusnuts.com/event/midway-rv-park/
LOCATION:Midway RV Park\, 3200 Galvin Road\, Centralia\, WA\, 98531\, United States
END:VEVENT
BEGIN:VEVENT
DTSTART;VALUE=DATE:20180823
DTEND;VALUE=DATE:20180827
DTSTAMP:20260423T162431
CREATED:20180317T140820Z
LAST-MODIFIED:20180715T000216Z
UID:220-1534982400-1535327999@nwbusnuts.com
SUMMARY:FLORENCE ELKS RV PARK
DESCRIPTION: HOSTS NEEDED:\n \n \n20 Spaces are reserved. 5 spaces are not satellite friendly.
URL:https://nwbusnuts.com/event/florence-elks-rv-park/
LOCATION:Florence Elks\, 1688 12th Street\, Florence\, OR\, 97439\, United States
END:VEVENT
BEGIN:VEVENT
DTSTART;VALUE=DATE:20180619
DTEND;VALUE=DATE:20180625
DTSTAMP:20260423T162431
CREATED:20180310T011859Z
LAST-MODIFIED:20180608T113518Z
UID:202-1529366400-1529884799@nwbusnuts.com
SUMMARY:FMCA NORTHWEST AREA RALLY
DESCRIPTION:* Important Information about the FMCA NW Area Rally *\nNotice: Meeting deadline for the PONY VILLAGE has changed from 12:00 noon to 2:00 pm. \nEveryone is to meet on Tuesday June 19th by 2:00 pm at the PONY VILLAGE Shopping Mall in North Bend\, OR. Address is 1611 Virginia Ave\, North Bend\, OR.  This is so all rigs can proceed together to the designated parking area. Contact Al Roeske if you have questions. See “Find out more” to view map. \n \n\n\nKathie Balogh\, National VP FMCA\, Northwest Area Invites ALL RV Friends and Family\n\n \nDownload the registration form here: \n \n 
URL:https://nwbusnuts.com/event/fmca-northwest-area-rally/
LOCATION:Ko-Kwel Casino (FRVA Regional Rally)\, 3201 Tremont Avenue\, North Bend\, OR\, 97459\, United States
END:VEVENT
BEGIN:VEVENT
DTSTART;VALUE=DATE:20170101
DTEND;VALUE=DATE:20180101
DTSTAMP:20260423T162431
CREATED:20161219T015557Z
LAST-MODIFIED:20161219T021043Z
UID:107-1483228800-1514764799@nwbusnuts.com
SUMMARY:Upcoming Events
DESCRIPTION:Indio\, California January 11-15\, 2017\nChandler\, Arizona March 7-10-2017\nLongview\, Washington  June 22-25\, 2017\nJuly\nNewport\, Oregon August (Dates TBA)\nMt. Angel\, Oregon September 15-18\, 2017\nProsser\, Washington October 12-15\, 2017
URL:https://nwbusnuts.com/event/upcoming-events/
END:VEVENT
END:VCALENDAR