BEGIN:VCALENDAR
VERSION:2.0
PRODID:-//Northwestern Bus Nuts - ECPv6.15.10//NONSGML v1.0//EN
CALSCALE:GREGORIAN
METHOD:PUBLISH
X-WR-CALNAME:Northwestern Bus Nuts
X-ORIGINAL-URL:https://nwbusnuts.com
X-WR-CALDESC:Events for Northwestern Bus Nuts
REFRESH-INTERVAL;VALUE=DURATION:PT1H
X-Robots-Tag:noindex
X-PUBLISHED-TTL:PT1H
BEGIN:VTIMEZONE
TZID:America/Denver
BEGIN:DAYLIGHT
TZOFFSETFROM:-0700
TZOFFSETTO:-0600
TZNAME:MDT
DTSTART:20250309T090000
END:DAYLIGHT
BEGIN:STANDARD
TZOFFSETFROM:-0600
TZOFFSETTO:-0700
TZNAME:MST
DTSTART:20251102T080000
END:STANDARD
BEGIN:DAYLIGHT
TZOFFSETFROM:-0700
TZOFFSETTO:-0600
TZNAME:MDT
DTSTART:20260308T090000
END:DAYLIGHT
BEGIN:STANDARD
TZOFFSETFROM:-0600
TZOFFSETTO:-0700
TZNAME:MST
DTSTART:20261101T080000
END:STANDARD
BEGIN:DAYLIGHT
TZOFFSETFROM:-0700
TZOFFSETTO:-0600
TZNAME:MDT
DTSTART:20270314T090000
END:DAYLIGHT
BEGIN:STANDARD
TZOFFSETFROM:-0600
TZOFFSETTO:-0700
TZNAME:MST
DTSTART:20271107T080000
END:STANDARD
END:VTIMEZONE
BEGIN:VEVENT
DTSTART;TZID=America/Denver:20260513T080000
DTEND;TZID=America/Denver:20260517T170000
DTSTAMP:20260423T090200
CREATED:20260413T220547Z
LAST-MODIFIED:20260413T220704Z
UID:987-1778659200-1779037200@nwbusnuts.com
SUMMARY:Bend Sisters Garden RV Resort
DESCRIPTION:
URL:https://nwbusnuts.com/event/bend-sisters-garden-rv-resort/
LOCATION:Bend Sisters Garden RV Resort\, 67667 Hwy 20\, Bend\, OR\, 97703\, United States
END:VEVENT
BEGIN:VEVENT
DTSTART;VALUE=DATE:20260617
DTEND;VALUE=DATE:20260621
DTSTAMP:20260423T090200
CREATED:20240423T192829Z
LAST-MODIFIED:20260414T001321Z
UID:791-1781654400-1781999999@nwbusnuts.com
SUMMARY:Northwest Area Regional Rally FRVA \, North Bend\, OR
DESCRIPTION:
URL:https://nwbusnuts.com/event/mill-casino-rv-park-north-bend-or/
LOCATION:Ko-Kwel Casino (FRVA Regional Rally)\, 3201 Tremont Avenue\, North Bend\, OR\, 97459\, United States
END:VEVENT
BEGIN:VEVENT
DTSTART;VALUE=DATE:20260707
DTEND;VALUE=DATE:20260713
DTSTAMP:20260423T090200
CREATED:20260414T002726Z
LAST-MODIFIED:20260414T003524Z
UID:1008-1783382400-1783900799@nwbusnuts.com
SUMMARY:July Bus Nuts Rally\, Mt Vernon Washington
DESCRIPTION:Town & Country Motorcoach and RV Resort \n \n \n \n(Click on DRIVING DIRECTIONS for PDF version)
URL:https://nwbusnuts.com/event/july-bus-nuts-rally-mt-vernon-washington/
LOCATION:Town & Country Motorcoach and RV Resort\, 342 W College Way\, Mt. Vernon\, WA\, 98273\, United States
END:VEVENT
BEGIN:VEVENT
DTSTART;VALUE=DATE:20260805
DTEND;VALUE=DATE:20260810
DTSTAMP:20260423T090200
CREATED:20260414T051604Z
LAST-MODIFIED:20260414T051604Z
UID:1016-1785888000-1786319999@nwbusnuts.com
SUMMARY:August Bus Nuts Rally\, Blackwell Island RV Park\, Coeur d'Alene\, Id
DESCRIPTION:
URL:https://nwbusnuts.com/event/august-bus-nuts-rally-blackwell-island-rv-park-coeur-dalene-id/
END:VEVENT
BEGIN:VEVENT
DTSTART;VALUE=DATE:20260917
DTEND;VALUE=DATE:20260921
DTSTAMP:20260423T090200
CREATED:20260414T052104Z
LAST-MODIFIED:20260414T052104Z
UID:1018-1789603200-1789948799@nwbusnuts.com
SUMMARY:Octoberfest\, Mt. Angel\, OR
DESCRIPTION:
URL:https://nwbusnuts.com/event/octoberfest-mt-angel-or/
END:VEVENT
END:VCALENDAR