BEGIN:VCALENDAR
VERSION:2.0
PRODID:-//Northwestern Bus Nuts - ECPv6.15.10//NONSGML v1.0//EN
CALSCALE:GREGORIAN
METHOD:PUBLISH
X-WR-CALNAME:Northwestern Bus Nuts
X-ORIGINAL-URL:https://nwbusnuts.com
X-WR-CALDESC:Events for Northwestern Bus Nuts
REFRESH-INTERVAL;VALUE=DURATION:PT1H
X-Robots-Tag:noindex
X-PUBLISHED-TTL:PT1H
BEGIN:VTIMEZONE
TZID:UTC
BEGIN:STANDARD
TZOFFSETFROM:+0000
TZOFFSETTO:+0000
TZNAME:UTC
DTSTART:20160101T000000
END:STANDARD
END:VTIMEZONE
BEGIN:VEVENT
DTSTART;TZID=UTC:20190720T160000
DTEND;TZID=UTC:20190720T200000
DTSTAMP:20260425T061314
CREATED:20190703T080105Z
LAST-MODIFIED:20190703T080306Z
UID:372-1563638400-1563652800@nwbusnuts.com
SUMMARY:WILLAMETTE QUEEN STERNWHEELER DINNER CRUISE
DESCRIPTION:Link to Willamette Queen Sternwheeler Dinner Cruise in PDF
URL:https://nwbusnuts.com/event/willamette-queen-sternwheeler-dinner-cruise/
LOCATION:Willamette Queen Sternwheeler\, 200 Water Street NE\, Salem\, OR\, United States
END:VEVENT
BEGIN:VEVENT
DTSTART;VALUE=DATE:20190516
DTEND;VALUE=DATE:20190520
DTSTAMP:20260425T061314
CREATED:20190307T004256Z
LAST-MODIFIED:20190307T010256Z
UID:323-1557964800-1558310399@nwbusnuts.com
SUMMARY:MIDWAY RV PARK
DESCRIPTION:  \nPlease sign-up early. Limited number of rv spaces available. Pay for food only ($35) with sign-up form. You will pay Midway RV Park upon arrival\, see sign-up form. \n  \n \n 
URL:https://nwbusnuts.com/event/midway-rv-park/
LOCATION:Midway RV Park\, 3200 Galvin Road\, Centralia\, WA\, 98531\, United States
END:VEVENT
BEGIN:VEVENT
DTSTART;VALUE=DATE:20180823
DTEND;VALUE=DATE:20180827
DTSTAMP:20260425T061314
CREATED:20180317T140820Z
LAST-MODIFIED:20180715T000216Z
UID:220-1534982400-1535327999@nwbusnuts.com
SUMMARY:FLORENCE ELKS RV PARK
DESCRIPTION: HOSTS NEEDED:\n \n \n20 Spaces are reserved. 5 spaces are not satellite friendly.
URL:https://nwbusnuts.com/event/florence-elks-rv-park/
LOCATION:Florence Elks\, 1688 12th Street\, Florence\, OR\, 97439\, United States
END:VEVENT
BEGIN:VEVENT
DTSTART;VALUE=DATE:20180619
DTEND;VALUE=DATE:20180625
DTSTAMP:20260425T061314
CREATED:20180310T011859Z
LAST-MODIFIED:20180608T113518Z
UID:202-1529366400-1529884799@nwbusnuts.com
SUMMARY:FMCA NORTHWEST AREA RALLY
DESCRIPTION:* Important Information about the FMCA NW Area Rally *\nNotice: Meeting deadline for the PONY VILLAGE has changed from 12:00 noon to 2:00 pm. \nEveryone is to meet on Tuesday June 19th by 2:00 pm at the PONY VILLAGE Shopping Mall in North Bend\, OR. Address is 1611 Virginia Ave\, North Bend\, OR.  This is so all rigs can proceed together to the designated parking area. Contact Al Roeske if you have questions. See “Find out more” to view map. \n \n\n\nKathie Balogh\, National VP FMCA\, Northwest Area Invites ALL RV Friends and Family\n\n \nDownload the registration form here: \n \n 
URL:https://nwbusnuts.com/event/fmca-northwest-area-rally/
LOCATION:Ko-Kwel Casino (FRVA Regional Rally)\, 3201 Tremont Avenue\, North Bend\, OR\, 97459\, United States
END:VEVENT
BEGIN:VEVENT
DTSTART;VALUE=DATE:20170101
DTEND;VALUE=DATE:20180101
DTSTAMP:20260425T061314
CREATED:20161219T015557Z
LAST-MODIFIED:20161219T021043Z
UID:107-1483228800-1514764799@nwbusnuts.com
SUMMARY:Upcoming Events
DESCRIPTION:Indio\, California January 11-15\, 2017\nChandler\, Arizona March 7-10-2017\nLongview\, Washington  June 22-25\, 2017\nJuly\nNewport\, Oregon August (Dates TBA)\nMt. Angel\, Oregon September 15-18\, 2017\nProsser\, Washington October 12-15\, 2017
URL:https://nwbusnuts.com/event/upcoming-events/
LOCATION:OR
END:VEVENT
END:VCALENDAR