BEGIN:VCALENDAR
VERSION:2.0
PRODID:-//Northwestern Bus Nuts - ECPv6.15.10//NONSGML v1.0//EN
CALSCALE:GREGORIAN
METHOD:PUBLISH
X-WR-CALNAME:Northwestern Bus Nuts
X-ORIGINAL-URL:https://nwbusnuts.com
X-WR-CALDESC:Events for Northwestern Bus Nuts
REFRESH-INTERVAL;VALUE=DURATION:PT1H
X-Robots-Tag:noindex
X-PUBLISHED-TTL:PT1H
BEGIN:VTIMEZONE
TZID:UTC
BEGIN:STANDARD
TZOFFSETFROM:+0000
TZOFFSETTO:+0000
TZNAME:UTC
DTSTART:20160101T000000
END:STANDARD
END:VTIMEZONE
BEGIN:VEVENT
DTSTART;VALUE=DATE:20170101
DTEND;VALUE=DATE:20180101
DTSTAMP:20260424T000909
CREATED:20161219T015557Z
LAST-MODIFIED:20161219T021043Z
UID:107-1483228800-1514764799@nwbusnuts.com
SUMMARY:Upcoming Events
DESCRIPTION:Indio\, California January 11-15\, 2017\nChandler\, Arizona March 7-10-2017\nLongview\, Washington  June 22-25\, 2017\nJuly\nNewport\, Oregon August (Dates TBA)\nMt. Angel\, Oregon September 15-18\, 2017\nProsser\, Washington October 12-15\, 2017
URL:https://nwbusnuts.com/event/upcoming-events/
LOCATION:OR
END:VEVENT
END:VCALENDAR